BEGIN:VCALENDAR
VERSION:2.0
PRODID:-//BMTA - ECPv4.8.1//NONSGML v1.0//EN
CALSCALE:GREGORIAN
METHOD:PUBLISH
X-WR-CALNAME:BMTA
X-ORIGINAL-URL:http://bmta.com.au
X-WR-CALDESC:Events for BMTA
BEGIN:VEVENT
DTSTART;TZID=UTC+0:20190310T080000
DTEND;TZID=UTC+0:20190310T170000
DTSTAMP:20190228T230353
CREATED:20190211T090701Z
LAST-MODIFIED:20190227T092633Z
UID:1590-1552204800-1552237200@bmta.com.au
SUMMARY:Junior Mustang Boys Trial 3
DESCRIPTION:
URL:http://bmta.com.au/event/boys-trial-3/
END:VEVENT
END:VCALENDAR