BEGIN:VCALENDAR
VERSION:2.0
PRODID:-//BMTA - ECPv4.8.1//NONSGML v1.0//EN
CALSCALE:GREGORIAN
METHOD:PUBLISH
X-WR-CALNAME:BMTA
X-ORIGINAL-URL:http://bmta.com.au
X-WR-CALDESC:Events for BMTA
BEGIN:VEVENT
DTSTART;TZID=UTC+0:20190224T080000
DTEND;TZID=UTC+0:20190224T170000
DTSTAMP:20190228T224820
CREATED:20190211T085917Z
LAST-MODIFIED:20190227T092652Z
UID:1578-1550995200-1551027600@bmta.com.au
SUMMARY:Junior Mustang Girls Trial 1
DESCRIPTION:
URL:http://bmta.com.au/event/girls-trial-1/
END:VEVENT
END:VCALENDAR