BEGIN:VCALENDAR
VERSION:2.0
PRODID:-//BMTA - ECPv4.8.1//NONSGML v1.0//EN
CALSCALE:GREGORIAN
METHOD:PUBLISH
X-WR-CALNAME:BMTA
X-ORIGINAL-URL:http://bmta.com.au
X-WR-CALDESC:Events for BMTA
BEGIN:VEVENT
DTSTART;TZID=UTC+0:20190217T080000
DTEND;TZID=UTC+0:20190217T170000
DTSTAMP:20190228T224735
CREATED:20190211T085803Z
LAST-MODIFIED:20190227T092658Z
UID:1576-1550390400-1550422800@bmta.com.au
SUMMARY:Junior Mustang Boys Trial 2
DESCRIPTION:
URL:http://bmta.com.au/event/boys-trial-2/
END:VEVENT
END:VCALENDAR