BEGIN:VCALENDAR
VERSION:2.0
PRODID:-//BMTA - ECPv4.8.1//NONSGML v1.0//EN
CALSCALE:GREGORIAN
METHOD:PUBLISH
X-WR-CALNAME:BMTA
X-ORIGINAL-URL:http://bmta.com.au
X-WR-CALDESC:Events for BMTA
BEGIN:VEVENT
DTSTART;TZID=UTC+0:20191025T080000
DTEND;TZID=UTC+0:20191025T170000
DTSTAMP:20190228T224712
CREATED:20190211T092054Z
LAST-MODIFIED:20190211T092054Z
UID:1628-1571990400-1572022800@bmta.com.au
SUMMARY:MTG
DESCRIPTION:
URL:http://bmta.com.au/event/mtg-5/
END:VEVENT
END:VCALENDAR