BEGIN:VCALENDAR
VERSION:2.0
PRODID:-//BMTA - ECPv4.8.1//NONSGML v1.0//EN
CALSCALE:GREGORIAN
METHOD:PUBLISH
X-WR-CALNAME:BMTA
X-ORIGINAL-URL:http://bmta.com.au
X-WR-CALDESC:Events for BMTA
BEGIN:VEVENT
DTSTART;TZID=UTC+0:20190404T080000
DTEND;TZID=UTC+0:20190404T170000
DTSTAMP:20190228T225408
CREATED:20190211T090913Z
LAST-MODIFIED:20190211T090913Z
UID:1598-1554364800-1554397200@bmta.com.au
SUMMARY:MET EAST Trial
DESCRIPTION:
URL:http://bmta.com.au/event/met-east-trial/
END:VEVENT
END:VCALENDAR