BEGIN:VCALENDAR
VERSION:2.0
PRODID:-//BMTA - ECPv4.8.1//NONSGML v1.0//EN
CALSCALE:GREGORIAN
METHOD:PUBLISH
X-WR-CALNAME:BMTA
X-ORIGINAL-URL:http://bmta.com.au
X-WR-CALDESC:Events for BMTA
BEGIN:VEVENT
DTSTART;TZID=UTC+0:20190428T080000
DTEND;TZID=UTC+0:20190428T170000
DTSTAMP:20190228T231201
CREATED:20190211T093203Z
LAST-MODIFIED:20190213T100634Z
UID:1638-1556438400-1556470800@bmta.com.au
SUMMARY:JNR Mustang Stampede
DESCRIPTION:
URL:http://bmta.com.au/event/jnr-mustang-stampede/
END:VEVENT
END:VCALENDAR