BEGIN:VCALENDAR
VERSION:2.0
PRODID:-//BMTA - ECPv4.8.1//NONSGML v1.0//EN
CALSCALE:GREGORIAN
METHOD:PUBLISH
X-WR-CALNAME:BMTA
X-ORIGINAL-URL:http://bmta.com.au
X-WR-CALDESC:Events for BMTA
BEGIN:VEVENT
DTSTART;TZID=UTC+0:20191001T080000
DTEND;TZID=UTC+0:20191004T170000
DTSTAMP:20190228T230833
CREATED:20190211T091447Z
LAST-MODIFIED:20190211T091447Z
UID:1609-1569916800-1570208400@bmta.com.au
SUMMARY:JNR Camp
DESCRIPTION:
URL:http://bmta.com.au/event/jnr-camp/
END:VEVENT
END:VCALENDAR