BEGIN:VCALENDAR
VERSION:2.0
PRODID:-//BMTA - ECPv4.8.1//NONSGML v1.0//EN
CALSCALE:GREGORIAN
METHOD:PUBLISH
X-WR-CALNAME:BMTA
X-ORIGINAL-URL:http://bmta.com.au
X-WR-CALDESC:Events for BMTA
BEGIN:VEVENT
DTSTART;TZID=UTC+0:20190421T080000
DTEND;TZID=UTC+0:20190421T170000
DTSTAMP:20190228T231957
CREATED:20190213T083358Z
LAST-MODIFIED:20190213T083358Z
UID:1728-1555833600-1555866000@bmta.com.au
SUMMARY:Easter Sunday
DESCRIPTION:
URL:http://bmta.com.au/event/easter-sunday/
END:VEVENT
END:VCALENDAR