BEGIN:VCALENDAR
VERSION:2.0
PRODID:-//BMTA - ECPv4.8.1//NONSGML v1.0//EN
CALSCALE:GREGORIAN
METHOD:PUBLISH
X-WR-CALNAME:BMTA
X-ORIGINAL-URL:http://bmta.com.au
X-WR-CALDESC:Events for BMTA
BEGIN:VEVENT
DTSTART;TZID=UTC+0:20190517T080000
DTEND;TZID=UTC+0:20190517T170000
DTSTAMP:20190228T231109
CREATED:20190213T081854Z
LAST-MODIFIED:20190213T081854Z
UID:1682-1558080000-1558112400@bmta.com.au
SUMMARY:Broncos v Cowboys @ Suncorp Stadium
DESCRIPTION:
URL:http://bmta.com.au/event/broncos-v-cowboys-suncorp-stadium/
END:VEVENT
END:VCALENDAR