BEGIN:VCALENDAR
VERSION:2.0
PRODID:-//BMTA - ECPv4.8.1//NONSGML v1.0//EN
CALSCALE:GREGORIAN
METHOD:PUBLISH
X-WR-CALNAME:BMTA
X-ORIGINAL-URL:http://bmta.com.au
X-WR-CALDESC:Events for BMTA
BEGIN:VEVENT
DTSTART;TZID=UTC+0:20190608T080000
DTEND;TZID=UTC+0:20190609T170000
DTSTAMP:20190228T231526
CREATED:20190211T094735Z
LAST-MODIFIED:20190211T094735Z
UID:1661-1559980800-1560099600@bmta.com.au
SUMMARY:Brisbane All Schools
DESCRIPTION:
URL:http://bmta.com.au/event/brisbane-all-schools/
END:VEVENT
END:VCALENDAR