BEGIN:VCALENDAR
VERSION:2.0
PRODID:-//BMTA - ECPv4.8.1//NONSGML v1.0//EN
CALSCALE:GREGORIAN
METHOD:PUBLISH
X-WR-CALNAME:BMTA
X-ORIGINAL-URL:http://bmta.com.au
X-WR-CALDESC:Events for BMTA
BEGIN:VEVENT
DTSTART;TZID=UTC+0:20190518T080000
DTEND;TZID=UTC+0:20190519T170000
DTSTAMP:20190228T231300
CREATED:20190213T090049Z
LAST-MODIFIED:20190213T090049Z
UID:1752-1558166400-1558285200@bmta.com.au
SUMMARY:Arthur Davis Cup
DESCRIPTION:
URL:http://bmta.com.au/event/arthur-davis-cup/
END:VEVENT
END:VCALENDAR